BEGIN:VCALENDAR
VERSION:2.0
PRODID:-//Cheer Advantage - ECPv6.15.20//NONSGML v1.0//EN
CALSCALE:GREGORIAN
METHOD:PUBLISH
X-WR-CALNAME:Cheer Advantage
X-ORIGINAL-URL:https://cheeradvantageallstars.com
X-WR-CALDESC:Events for Cheer Advantage
REFRESH-INTERVAL;VALUE=DURATION:PT1H
X-Robots-Tag:noindex
X-PUBLISHED-TTL:PT1H
BEGIN:VTIMEZONE
TZID:UTC
BEGIN:STANDARD
TZOFFSETFROM:+0000
TZOFFSETTO:+0000
TZNAME:UTC
DTSTART:20240101T000000
END:STANDARD
END:VTIMEZONE
BEGIN:VEVENT
DTSTART;TZID=UTC:20250928T110000
DTEND;TZID=UTC:20250928T140000
DTSTAMP:20260421T115912
CREATED:20250916T203152Z
LAST-MODIFIED:20250925T202612Z
UID:10000011-1759057200-1759068000@cheeradvantageallstars.com
SUMMARY:Open House
DESCRIPTION:Join us for our Open House on Sunday\, September 28 from 11 a.m. to 2 p.m.! Families are invited to tour the gym\, watch class demonstrations\, and take advantage of free skills assessments. Enjoy swag bags\, exciting prizes\, and a chance to experience all that our program has to offer. Whether you’re new to cheer\, tumbling\, or looking to take your skills to the next level\, this is the perfect opportunity to learn more and get involved!
URL:https://cheeradvantageallstars.com/event/open-house/
ATTACH;FMTTYPE=image/png:https://cheeradvantageallstars.com/wp-content/uploads/2025/09/2025-open-house.png
END:VEVENT
END:VCALENDAR